{ "currentVersion": 10.91, "serviceDescription": "The Hillshade Basemap is a shaded relief, or hillshade image of Tasmania. Derived from DPIPWE 30m elevation grid and all available LiDAR datasets in Tasmania.\n\nShaded relief, or hillshading, is a technique where a lighting effect is added to a map based on elevation variations within the landscape. Hillshading creates a three dimensional effect that provides a sense of visual relief.\n\nA hypsometric tint has been applied to indicate elevation.\n\nFor Services Terms and Conditions, please see the LIST Web Services Terms and Conditions (http://listdata.thelist.tas.gov.au/public/LISTWebServicesTermsConditions.pdf)

For Services Terms and Conditions, please see the
LIST Web Services Terms and Conditions<\/a><\/b> (http://listdata.thelist.tas.gov.au/public/LISTWebServicesTermsConditions.pdf)", "mapName": "Hillshade", "description": "Tasmania Color Hill shade base map", "copyrightText": "Creative Commons BY 3.0 AU © State of Tasmania", "supportsDynamicLayers": false, "layers": [ { "id": 0, "name": "Data Boundaries", "parentLayerId": -1, "defaultVisibility": true, "subLayerIds": null, "minScale": 30000000, "maxScale": 0, "type": "Feature Layer", "geometryType": "esriGeometryPolygon" } ], "tables": [], "spatialReference": { "wkid": 102100, "latestWkid": 3857 }, "singleFusedMapCache": true, "tileInfo": { "rows": 256, "cols": 256, "dpi": 96, "format": "JPEG", "compressionQuality": 75, "origin": { "x": -2.0037508342787E7, "y": 2.0037508342787E7 }, "spatialReference": { "wkid": 102100, "latestWkid": 3857 }, "lods": [ { "level": 0, "resolution": 156543.03392800014, "scale": 5.91657527591555E8 }, { "level": 1, "resolution": 78271.51696399994, "scale": 2.95828763795777E8 }, { "level": 2, "resolution": 39135.75848200009, "scale": 1.47914381897889E8 }, { "level": 3, "resolution": 19567.87924099992, "scale": 7.3957190948944E7 }, { "level": 4, "resolution": 9783.93962049996, "scale": 3.6978595474472E7 }, { "level": 5, "resolution": 4891.96981024998, "scale": 1.8489297737236E7 }, { "level": 6, "resolution": 2445.98490512499, "scale": 9244648.868618 }, { "level": 7, "resolution": 1222.992452562495, "scale": 4622324.434309 }, { "level": 8, "resolution": 611.4962262813797, "scale": 2311162.217155 }, { "level": 9, "resolution": 305.74811314055756, "scale": 1155581.108577 }, { "level": 10, "resolution": 152.87405657041106, "scale": 577790.554289 }, { "level": 11, "resolution": 76.43702828507324, "scale": 288895.277144 }, { "level": 12, "resolution": 38.21851414253662, "scale": 144447.638572 }, { "level": 13, "resolution": 19.10925707126831, "scale": 72223.819286 }, { "level": 14, "resolution": 9.554628535634155, "scale": 36111.909643 }, { "level": 15, "resolution": 4.77731426794937, "scale": 18055.954822 }, { "level": 16, "resolution": 2.388657133974685, "scale": 9027.977411 }, { "level": 17, "resolution": 1.1943285668550503, "scale": 4513.988705 }, { "level": 18, "resolution": 0.5971642835598172, "scale": 2256.994353 } ] }, "initialExtent": { "xmin": 1.4493820792583417E7, "ymin": -5653984.830347064, "xmax": 1.8114036598021965E7, "ymax": -3594684.252683644, "spatialReference": { "cs": "pcs", "wkid": 102100 } }, "fullExtent": { "xmin": 1.5615410999897296E7, "ymin": -5530996.013003946, "xmax": 1.6910747636798106E7, "ymax": -4714351.855601691, "spatialReference": { "cs": "pcs", "wkid": 102100 } }, "minScale": 1.8489297737236E7, "maxScale": 2256.994353, "units": "esriMeters", "supportedImageFormatTypes": "PNG32,PNG24,PNG,JPG,DIB,TIFF,EMF,PS,PDF,GIF,SVG,SVGZ,BMP", "documentInfo": { "Title": "Hillshade", "Author": "listhelp@dpipwe.tas.gov.au", "Comments": "The Hillshade Basemap is a shaded relief, or hillshade image of Tasmania. Derived from DPIPWE 30m elevation grid and all available LiDAR datasets in Tasmania.\n\nShaded relief, or hillshading, is a technique where a lighting effect is added to a map based on elevation variations within the landscape. Hillshading creates a three dimensional effect that provides a sense of visual relief.\n\nA hypsometric tint has been applied to indicate elevation.\n\nFor Services Terms and Conditions, please see the LIST Web Services Terms and Conditions (http://listdata.thelist.tas.gov.au/public/LISTWebServicesTermsConditions.pdf) ", "Subject": "Tasmania Hillshade base map.", "Category": "", "AntialiasingMode": "None", "TextAntialiasingMode": "Force", "Keywords": "Hillshade,basemap,shaded relief,LiDAR,elevation,terrain,hypsometric,Tasmania" }, "capabilities": "Map,Query,Data", "supportedQueryFormats": "JSON, geoJSON", "exportTilesAllowed": false, "referenceScale": 0, "supportsDatumTransformation": true, "maxRecordCount": 1000, "maxImageHeight": 4096, "maxImageWidth": 4096, "supportedExtensions": "WMSServer", "resampling": false }