{
 "currentVersion": 10.91,
 "serviceDescription": "This is a seamless mosaic of the 76 pages of \"Sprents Book\" which was a survey of Hobart Town that was started on February 25th 1841. On February 25th 1841 James Sprent undertook an extensive and large scale survey of the greater part of Hobart Town.\n\nSprent produced a set of 76 street plans at a size measuring approx (landscape) 50.5 x 65 cm which captured minute detail down to the individual buildings situated at the time in Hobart Town. That catalogue of plans then became a large bound volume and in a reference form was always known as \u2018Sprents Book\u2019.",
 "mapName": "SprentsBook",
 "description": "Sprents Book",
 "copyrightText": "the LIST<\/a> © State of Tasmania",
 "supportsDynamicLayers": false,
 "layers": [
  {
   "id": 0,
   "name": "Data Boundaries",
   "parentLayerId": -1,
   "defaultVisibility": false,
   "subLayerIds": null,
   "minScale": 30000000,
   "maxScale": 0,
   "type": "Feature Layer",
   "geometryType": "esriGeometryPolygon"
  }
 ],
 "tables": [],
 "spatialReference": {
  "wkid": 102100,
  "latestWkid": 3857
 },
 "singleFusedMapCache": true,
 "tileInfo": {
  "rows": 256,
  "cols": 256,
  "dpi": 96,
  "format": "MIXED",
  "compressionQuality": 75,
  "origin": {
   "x": -2.0037508342787E7,
   "y": 2.0037508342787E7
  },
  "spatialReference": {
   "wkid": 102100,
   "latestWkid": 3857
  },
  "lods": [
   {
    "level": 0,
    "resolution": 156543.03392800014,
    "scale": 5.91657527591555E8
   },
   {
    "level": 1,
    "resolution": 78271.51696399994,
    "scale": 2.95828763795777E8
   },
   {
    "level": 2,
    "resolution": 39135.75848200009,
    "scale": 1.47914381897889E8
   },
   {
    "level": 3,
    "resolution": 19567.87924099992,
    "scale": 7.3957190948944E7
   },
   {
    "level": 4,
    "resolution": 9783.93962049996,
    "scale": 3.6978595474472E7
   },
   {
    "level": 5,
    "resolution": 4891.96981024998,
    "scale": 1.8489297737236E7
   },
   {
    "level": 6,
    "resolution": 2445.98490512499,
    "scale": 9244648.868618
   },
   {
    "level": 7,
    "resolution": 1222.992452562495,
    "scale": 4622324.434309
   },
   {
    "level": 8,
    "resolution": 611.4962262813797,
    "scale": 2311162.217155
   },
   {
    "level": 9,
    "resolution": 305.74811314055756,
    "scale": 1155581.108577
   },
   {
    "level": 10,
    "resolution": 152.87405657041106,
    "scale": 577790.554289
   },
   {
    "level": 11,
    "resolution": 76.43702828507324,
    "scale": 288895.277144
   },
   {
    "level": 12,
    "resolution": 38.21851414253662,
    "scale": 144447.638572
   },
   {
    "level": 13,
    "resolution": 19.10925707126831,
    "scale": 72223.819286
   },
   {
    "level": 14,
    "resolution": 9.554628535634155,
    "scale": 36111.909643
   },
   {
    "level": 15,
    "resolution": 4.77731426794937,
    "scale": 18055.954822
   },
   {
    "level": 16,
    "resolution": 2.388657133974685,
    "scale": 9027.977411
   },
   {
    "level": 17,
    "resolution": 1.1943285668550503,
    "scale": 4513.988705
   },
   {
    "level": 18,
    "resolution": 0.5971642835598172,
    "scale": 2256.994353
   },
   {
    "level": 19,
    "resolution": 0.29858214164761665,
    "scale": 1128.497176
   },
   {
    "level": 20,
    "resolution": 0.1492252984505969,
    "scale": 564
   },
   {
    "level": 21,
    "resolution": 0.07461264922529845,
    "scale": 282
   }
  ]
 },
 "initialExtent": {
  "xmin": 1.6399943943319965E7,
  "ymin": -5294316.929243161,
  "xmax": 1.6400825915193517E7,
  "ymax": -5293815.233961361,
  "spatialReference": {
   "cs": "pcs",
   "wkid": 102100
  }
 },
 "fullExtent": {
  "xmin": 1.5615410999897296E7,
  "ymin": -5530996.013003946,
  "xmax": 1.6910747636798106E7,
  "ymax": -4714351.855601691,
  "spatialReference": {
   "cs": "pcs",
   "wkid": 102100
  }
 },
 "minScale": 9244648.868618,
 "maxScale": 282.124294,
 "units": "esriMeters",
 "supportedImageFormatTypes": "PNG32,PNG24,PNG,JPG,DIB,TIFF,EMF,PS,PDF,GIF,SVG,SVGZ,BMP",
 "documentInfo": {
  "Title": "Sprents Book",
  "Author": "listhelp@dpipwe.tas.gov.au",
  "Comments": "This is a seamless mosaic of the 76 pages of \"Sprents Book\" which was a survey of Hobart Town that was started on February 25th 1841. On February 25th 1841 James Sprent undertook an extensive and large scale survey of the greater part of Hobart Town.\n\nSprent produced a set of 76 street plans at a size measuring approx (landscape) 50.5 x 65 cm which captured minute detail down to the individual buildings situated at the time in Hobart Town. That catalogue of plans then became a large bound volume and in a reference form was always known as \u2018Sprents Book\u2019.",
  "Subject": "Seamless mosaic of the 76 pages of \"Sprents Book\" which was a survey of Hobart Town that was started on February 25th 1841.",
  "Category": "",
  "AntialiasingMode": "None",
  "TextAntialiasingMode": "Force",
  "Keywords": "Tasmania,historic,town,sprent,sprents,book,sprents book"
 },
 "capabilities": "Map,Query,Data",
 "supportedQueryFormats": "JSON, geoJSON",
 "exportTilesAllowed": false,
 "referenceScale": 0,
 "supportsDatumTransformation": true,
 "maxRecordCount": 1000,
 "maxImageHeight": 4096,
 "maxImageWidth": 4096,
 "supportedExtensions": "WMSServer"
}
