View In:
ArcGIS JavaScript
ArcGIS Online Map Viewer
ArcGIS Earth
ArcMap
ArcGIS Pro
View Footprint In:
ArcGIS Online Map Viewer
Service Description: Tasmania State Orthophoto compilation for 2019-2020 season. Coverage compiled from latest aerial photos sourced from DPIPWE and individual projects. The resolution of the raster capture varies, with many urban areas at a higher resolution.For Services Terms and Conditions, please see the LIST Web Services Terms and Conditions (http://listdata.thelist.tas.gov.au/public/LISTWebServicesTermsConditions.pdf)
Map Name: AerialPhoto2020
Legend
All Layers and Tables
Layers:
Description: Orthographic aerial photo capture for the 2019-2020 season.
Copyright Text: Creative Commons BY 3.0 AU © State of Tasmania
Spatial Reference:
102100
(3857)
Single Fused Map Cache: true
Tile Info:
- Height: 256
- Width: 256
- DPI: 96
-
Levels of Detail: 20
-
Level ID: 0
[ Start Tile, End Tile ]
- Resolution: 156543.03392800014
- Scale: 5.91657527591555E8
-
Level ID: 1
[ Start Tile, End Tile ]
- Resolution: 78271.51696399994
- Scale: 2.95828763795777E8
-
Level ID: 2
[ Start Tile, End Tile ]
- Resolution: 39135.75848200009
- Scale: 1.47914381897889E8
-
Level ID: 3
[ Start Tile, End Tile ]
- Resolution: 19567.87924099992
- Scale: 7.3957190948944E7
-
Level ID: 4
[ Start Tile, End Tile ]
- Resolution: 9783.93962049996
- Scale: 3.6978595474472E7
-
Level ID: 5
[ Start Tile, End Tile ]
- Resolution: 4891.96981024998
- Scale: 1.8489297737236E7
- Format: MIXED
- Compression Quality: 75.0
- Origin: X: -2.0037508342787E7
Y: 2.0037508342787E7
- Spatial Reference: 102100
(3857)
Initial Extent:
XMin: 1.3955036335557614E7
YMin: -5666725.158015627
XMax: 1.9864085832006056E7
YMax: -3489706.9224819914
Spatial Reference: 102100
(3857)
Full Extent:
XMin: 1.24509644042E7
YMin: -7332700
XMax: 17716000
YMax: -871037.475099999
Spatial Reference: 102100
(3857)
Units: esriMeters
Supported Image Format Types: PNG32,PNG24,PNG,JPG,DIB,TIFF,EMF,PS,PDF,GIF,SVG,SVGZ,BMP
Document Info:
Title: Aerial Photo 2020
Author: listhelp@dpipwe.tas.gov.au
Comments: Tasmania State Orthophoto compilation for 2019-2020 season. Coverage compiled from latest aerial photos sourced from DPIPWE and individual projects. The resolution of the raster capture varies, with many urban areas at a higher resolution.For Services Terms and Conditions, please see the LIST Web Services Terms and Conditions (http://listdata.thelist.tas.gov.au/public/LISTWebServicesTermsConditions.pdf)
Subject: Tasmania Orthographic aerial photo capture for the 2019-2020 season.
Category:
Keywords: Orthophoto,Basemap,ortho,photo,aerial,state,2020,2019 orthographic
AntialiasingMode: None
TextAntialiasingMode: Force
Supports Dynamic Layers: false
Resampling: false
MaxRecordCount: 1000
MaxImageHeight: 4096
MaxImageWidth: 4096
Supported Query Formats: JSON, geoJSON
Supports Query Data Elements:
Min Scale: 5.91657527591555E8
Max Scale: 1128.497176
Supports Datum Transformation: true
Child Resources:
Info
Supported Operations:
Export Map
Identify
QueryLegends
QueryDomains
Find
Return Updates