View In:
ArcGIS JavaScript
ArcGIS Online Map Viewer
ArcGIS Earth
ArcMap
ArcGIS Pro
View Footprint In:
ArcGIS Online Map Viewer
Service Description: The Hillshade Basemap is a shaded relief, or hillshade image of Tasmania. Derived from DPIPWE 30m elevation grid and all available LiDAR datasets in Tasmania.
Shaded relief, or hillshading, is a technique where a lighting effect is added to a map based on elevation variations within the landscape. Hillshading creates a three dimensional effect that provides a sense of visual relief.
A hypsometric tint has been applied to indicate elevation.
For Services Terms and Conditions, please see the LIST Web Services Terms and Conditions (http://listdata.thelist.tas.gov.au/public/LISTWebServicesTermsConditions.pdf)
For Services Terms and Conditions, please see the
LIST Web Services Terms and Conditions (http://listdata.thelist.tas.gov.au/public/LISTWebServicesTermsConditions.pdf)
Map Name: Hillshade
Legend
All Layers and Tables
Layers:
Description: Tasmania Color Hill shade base map
Copyright Text: Creative Commons BY 3.0 AU © State of Tasmania
Spatial Reference:
102100
(3857)
Single Fused Map Cache: true
Tile Info:
- Height: 256
- Width: 256
- DPI: 96
-
Levels of Detail: 19
-
Level ID: 0
[ Start Tile, End Tile ]
- Resolution: 156543.03392800014
- Scale: 5.91657527591555E8
-
Level ID: 1
[ Start Tile, End Tile ]
- Resolution: 78271.51696399994
- Scale: 2.95828763795777E8
-
Level ID: 2
[ Start Tile, End Tile ]
- Resolution: 39135.75848200009
- Scale: 1.47914381897889E8
-
Level ID: 3
[ Start Tile, End Tile ]
- Resolution: 19567.87924099992
- Scale: 7.3957190948944E7
-
Level ID: 4
[ Start Tile, End Tile ]
- Resolution: 9783.93962049996
- Scale: 3.6978595474472E7
-
Level ID: 5
[ Start Tile, End Tile ]
- Resolution: 4891.96981024998
- Scale: 1.8489297737236E7
- Format: JPEG
- Compression Quality: 75.0
- Origin: X: -2.0037508342787E7
Y: 2.0037508342787E7
- Spatial Reference: 102100
(3857)
Initial Extent:
XMin: 1.4493820792583417E7
YMin: -5653984.830347064
XMax: 1.8114036598021965E7
YMax: -3594684.252683644
Spatial Reference: 102100
Full Extent:
XMin: 1.5615410999897296E7
YMin: -5530996.013003946
XMax: 1.6910747636798106E7
YMax: -4714351.855601691
Spatial Reference: 102100
Units: esriMeters
Supported Image Format Types: PNG32,PNG24,PNG,JPG,DIB,TIFF,EMF,PS,PDF,GIF,SVG,SVGZ,BMP
Document Info:
Title: Hillshade
Author: listhelp@dpipwe.tas.gov.au
Comments: The Hillshade Basemap is a shaded relief, or hillshade image of Tasmania. Derived from DPIPWE 30m elevation grid and all available LiDAR datasets in Tasmania.
Shaded relief, or hillshading, is a technique where a lighting effect is added to a map based on elevation variations within the landscape. Hillshading creates a three dimensional effect that provides a sense of visual relief.
A hypsometric tint has been applied to indicate elevation.
For Services Terms and Conditions, please see the LIST Web Services Terms and Conditions (http://listdata.thelist.tas.gov.au/public/LISTWebServicesTermsConditions.pdf)
Subject: Tasmania Hillshade base map.
Category:
Keywords: Hillshade,basemap,shaded relief,LiDAR,elevation,terrain,hypsometric,Tasmania
AntialiasingMode: None
TextAntialiasingMode: Force
Supports Dynamic Layers: false
Resampling: false
MaxRecordCount: 1000
MaxImageHeight: 4096
MaxImageWidth: 4096
Supported Query Formats: JSON, geoJSON
Supports Query Data Elements:
Min Scale: 1.8489297737236E7
Max Scale: 2256.994353
Supports Datum Transformation: true
Child Resources:
Info
Supported Operations:
Export Map
Identify
QueryLegends
QueryDomains
Find
Return Updates