View In:
ArcGIS JavaScript
ArcGIS Online Map Viewer
ArcGIS Earth
ArcMap
ArcGIS Explorer
View Footprint In:
ArcGIS Online Map Viewer
Service Description: TASMAP 1:250 000 Images have been generated from the latest Edition 5 2014 edition of the TASMAP 1:250 000 map series which have been georeferenced and mosaiced into a state-wide dataset.
For Services Terms and Conditions, please see the LIST Web Services Terms and Conditions (http://listdata.thelist.tas.gov.au/public/LISTWebServicesTermsConditions.pdf)
Map Name: Tasmap250K
Legend
All Layers and Tables
Layers:
Description: TASMAP 1:250 000 Images have been generated from the latest Edition 5 2014 edition of the TASMAP 1:250 000 map series which have been georeferenced and mosaiced into a state-wide dataset.
For Services Terms and Conditions, please see (http://listdata.thelist.tas.gov.au/public/LISTWebServicesTermsConditions.pdf.
Copyright Text:
the LIST © State of Tasmania
Spatial Reference:
102100
(3857)
Single Fused Map Cache: true
Tile Info:
- Height: 256
- Width: 256
- DPI: 96
-
Levels of Detail: 16
-
Level ID: 0
[ Start Tile, End Tile ]
- Resolution: 156543.03392800014
- Scale: 5.91657527591555E8
-
Level ID: 1
[ Start Tile, End Tile ]
- Resolution: 78271.51696399994
- Scale: 2.95828763795777E8
-
Level ID: 2
[ Start Tile, End Tile ]
- Resolution: 39135.75848200009
- Scale: 1.47914381897889E8
-
Level ID: 3
[ Start Tile, End Tile ]
- Resolution: 19567.87924099992
- Scale: 7.3957190948944E7
-
Level ID: 4
[ Start Tile, End Tile ]
- Resolution: 9783.93962049996
- Scale: 3.6978595474472E7
-
Level ID: 5
[ Start Tile, End Tile ]
- Resolution: 4891.96981024998
- Scale: 1.8489297737236E7
- Format: MIXED
- Compression Quality: 75.0
- Origin: X: -2.0037508342787E7
Y: 2.0037508342787E7
- Spatial Reference: 102100
(3857)
Initial Extent:
XMin: 1.6176218574791053E7
YMin: -5128021.50493611
XMax: 1.6334483527655805E7
YMax: -5037995.073813235
Spatial Reference: 102100
Full Extent:
XMin: 1.5615410999897296E7
YMin: -5530996.013003946
XMax: 1.6910747636798106E7
YMax: -4714351.855601691
Spatial Reference: 102100
Units: esriMeters
Supported Image Format Types: PNG32,PNG24,PNG,JPG,DIB,TIFF,EMF,PS,PDF,GIF,SVG,SVGZ,BMP
Document Info:
Title: Tasmap 250K
Author: listhelp@dpipwe.tas.gov.au
Comments: TASMAP 1:250 000 Images have been generated from the latest Edition 5 2014 edition of the TASMAP 1:250 000 map series which have been georeferenced and mosaiced into a state-wide dataset.
For Services Terms and Conditions, please see the LIST Web Services Terms and Conditions (http://listdata.thelist.tas.gov.au/public/LISTWebServicesTermsConditions.pdf)
Subject: Tasmap 1:250,000 Topographic Map Series.
Category:
Keywords: Tasmania,TASMAP,250k,250,250000,topographic,map
AntialiasingMode: None
TextAntialiasingMode: Force
Supports Dynamic Layers: false
MaxRecordCount: 1000
MaxImageHeight: 4096
MaxImageWidth: 4096
Supported Query Formats: JSON, AMF, geoJSON
Min Scale: 1.8489297737236E7
Max Scale: 18055.954822
Supports Datum Transformation: true
Child Resources:
Info
Supported Operations:
Export Map
Identify
QueryDomains
Find
Return Updates