View In:
ArcGIS JavaScript
ArcGIS Online Map Viewer
ArcGIS Earth
ArcMap
ArcGIS Explorer
View Footprint In:
ArcGIS Online Map Viewer
Service Description: Tasmap Raster is derived from TASMAP 500K, 250K, 25K, and Tasmanian Towns Street Atlas data. Maps are shown at appropriate levels.
For Services Terms and Conditions, please see the LIST Web Services Terms and Conditions (http://listdata.thelist.tas.gov.au/public/LISTWebServicesTermsConditions.pdf)
Map Name: TasmapRaster
Legend
All Layers and Tables
Layers:
Description: Image Service derived from TASMAP 500K, 250K, 25K, and Tasmanian Towns Street Atlas data. Maps are shown at appropriate levels.
Copyright Text:
the LIST © State of Tasmania
Spatial Reference:
102100
(3857)
Single Fused Map Cache: true
Tile Info:
- Height: 256
- Width: 256
- DPI: 96
-
Levels of Detail: 17
-
Level ID: 0
[ Start Tile, End Tile ]
- Resolution: 156543.03392800014
- Scale: 5.91657527591555E8
-
Level ID: 1
[ Start Tile, End Tile ]
- Resolution: 78271.51696399994
- Scale: 2.95828763795777E8
-
Level ID: 2
[ Start Tile, End Tile ]
- Resolution: 39135.75848200009
- Scale: 1.47914381897889E8
-
Level ID: 3
[ Start Tile, End Tile ]
- Resolution: 19567.87924099992
- Scale: 7.3957190948944E7
-
Level ID: 4
[ Start Tile, End Tile ]
- Resolution: 9783.93962049996
- Scale: 3.6978595474472E7
-
Level ID: 5
[ Start Tile, End Tile ]
- Resolution: 4891.96981024998
- Scale: 1.8489297737236E7
- Format: MIXED
- Compression Quality: 75.0
- Origin: X: -2.0037508342787E7
Y: 2.0037508342787E7
- Spatial Reference: 102100
(3857)
Initial Extent:
XMin: 1.5568944379466325E7
YMin: -5354536.036954711
XMax: 1.7032048296909638E7
YMax: -4522273.292328735
Spatial Reference: 102100
Full Extent:
XMin: 1.5615410999897296E7
YMin: -5530996.013003946
XMax: 1.6910747636798106E7
YMax: -4714351.855601691
Spatial Reference: 102100
Units: esriMeters
Supported Image Format Types: PNG32,PNG24,PNG,JPG,DIB,TIFF,EMF,PS,PDF,GIF,SVG,SVGZ,BMP
Document Info:
Title: Tasmap Raster
Author: listhelp@dpipwe.tas.gov.au
Comments: Tasmap Raster is derived from TASMAP 500K, 250K, 25K, and Tasmanian Towns Street Atlas data. Maps are shown at appropriate levels.
For Services Terms and Conditions, please see the LIST Web Services Terms and Conditions (http://listdata.thelist.tas.gov.au/public/LISTWebServicesTermsConditions.pdf)
Subject: Tasmap Raster
Category:
Keywords: Tasmania,TASMAP,50k,50000,topographic
AntialiasingMode: None
TextAntialiasingMode: Force
Supports Dynamic Layers: false
MaxRecordCount: 1000
MaxImageHeight: 4096
MaxImageWidth: 4096
Supported Query Formats: JSON, AMF, geoJSON
Min Scale: 5.91657527591555E8
Max Scale: 9027.977411
Supports Datum Transformation: true
Child Resources:
Info
Supported Operations:
Export Map
Identify
QueryDomains
Find
Return Updates