View In:
ArcGIS JavaScript
ArcGIS Online Map Viewer
ArcGIS Earth
ArcMap
ArcGIS Pro
View Footprint In:
ArcGIS Online Map Viewer
Service Description: This is a seamless mosaic of the 76 pages of "Sprents Book" which was a survey of Hobart Town that was started on February 25th 1841. On February 25th 1841 James Sprent undertook an extensive and large scale survey of the greater part of Hobart Town.
Sprent produced a set of 76 street plans at a size measuring approx (landscape) 50.5 x 65 cm which captured minute detail down to the individual buildings situated at the time in Hobart Town. That catalogue of plans then became a large bound volume and in a reference form was always known as ‘Sprents Book’.
Map Name: SprentsBook
Legend
All Layers and Tables
Layers:
Description: Sprents Book
Copyright Text: <a href='http://www.thelist.tas.gov.au' target='_blank'>the LIST</a> © State of Tasmania
Spatial Reference:
102100
(3857)
Single Fused Map Cache: true
Tile Info:
- Height: 256
- Width: 256
- DPI: 96
-
Levels of Detail: 22
-
Level ID: 0
[ Start Tile, End Tile ]
- Resolution: 156543.03392800014
- Scale: 5.91657527591555E8
-
Level ID: 1
[ Start Tile, End Tile ]
- Resolution: 78271.51696399994
- Scale: 2.95828763795777E8
-
Level ID: 2
[ Start Tile, End Tile ]
- Resolution: 39135.75848200009
- Scale: 1.47914381897889E8
-
Level ID: 3
[ Start Tile, End Tile ]
- Resolution: 19567.87924099992
- Scale: 7.3957190948944E7
-
Level ID: 4
[ Start Tile, End Tile ]
- Resolution: 9783.93962049996
- Scale: 3.6978595474472E7
-
Level ID: 5
[ Start Tile, End Tile ]
- Resolution: 4891.96981024998
- Scale: 1.8489297737236E7
- Format: MIXED
- Compression Quality: 75.0
- Origin: X: -2.0037508342787E7
Y: 2.0037508342787E7
- Spatial Reference: 102100
(3857)
Initial Extent:
XMin: 1.6399943943319965E7
YMin: -5294316.929243161
XMax: 1.6400825915193517E7
YMax: -5293815.233961361
Spatial Reference: 102100
(3857)
Full Extent:
XMin: 1.5615410999897296E7
YMin: -5530996.013003946
XMax: 1.6910747636798106E7
YMax: -4714351.855601691
Spatial Reference: 102100
(3857)
Units: esriMeters
Supported Image Format Types: PNG32,PNG24,PNG,JPG,DIB,TIFF,EMF,PS,PDF,GIF,SVG,SVGZ,BMP
Document Info:
Title: Sprents Book
Author: listhelp@dpipwe.tas.gov.au
Comments: This is a seamless mosaic of the 76 pages of "Sprents Book" which was a survey of Hobart Town that was started on February 25th 1841. On February 25th 1841 James Sprent undertook an extensive and large scale survey of the greater part of Hobart Town.
Sprent produced a set of 76 street plans at a size measuring approx (landscape) 50.5 x 65 cm which captured minute detail down to the individual buildings situated at the time in Hobart Town. That catalogue of plans then became a large bound volume and in a reference form was always known as ‘Sprents Book’.
Subject: Seamless mosaic of the 76 pages of "Sprents Book" which was a survey of Hobart Town that was started on February 25th 1841.
Category:
Keywords: Tasmania,historic,town,sprent,sprents,book,sprents book
AntialiasingMode: None
TextAntialiasingMode: Force
Supports Dynamic Layers: false
MaxRecordCount: 1000
MaxImageHeight: 4096
MaxImageWidth: 4096
Supported Query Formats: JSON, geoJSON
Supports Query Data Elements:
Min Scale: 9244648.868618
Max Scale: 282.124294
Supports Datum Transformation: true
Child Resources:
Info
Supported Operations:
Export Map
Identify
QueryLegends
QueryDomains
Find
Return Updates